BEGIN:VCALENDAR
VERSION:2.0
PRODID:-//Üzleti Környezet Fejlesztési Program - ECPv6.15.15//NONSGML v1.0//EN
CALSCALE:GREGORIAN
METHOD:PUBLISH
X-ORIGINAL-URL:https://uzletikornyezetfejlesztesiprogram.hu
X-WR-CALDESC:Események Üzleti Környezet Fejlesztési Program
REFRESH-INTERVAL;VALUE=DURATION:PT1H
X-Robots-Tag:noindex
X-PUBLISHED-TTL:PT1H
BEGIN:VTIMEZONE
TZID:Europe/Budapest
BEGIN:DAYLIGHT
TZOFFSETFROM:+0100
TZOFFSETTO:+0200
TZNAME:CEST
DTSTART:20250330T010000
END:DAYLIGHT
BEGIN:STANDARD
TZOFFSETFROM:+0200
TZOFFSETTO:+0100
TZNAME:CET
DTSTART:20251026T010000
END:STANDARD
BEGIN:DAYLIGHT
TZOFFSETFROM:+0100
TZOFFSETTO:+0200
TZNAME:CEST
DTSTART:20260329T010000
END:DAYLIGHT
BEGIN:STANDARD
TZOFFSETFROM:+0200
TZOFFSETTO:+0100
TZNAME:CET
DTSTART:20261025T010000
END:STANDARD
BEGIN:DAYLIGHT
TZOFFSETFROM:+0100
TZOFFSETTO:+0200
TZNAME:CEST
DTSTART:20270328T010000
END:DAYLIGHT
BEGIN:STANDARD
TZOFFSETFROM:+0200
TZOFFSETTO:+0100
TZNAME:CET
DTSTART:20271031T010000
END:STANDARD
BEGIN:DAYLIGHT
TZOFFSETFROM:+0100
TZOFFSETTO:+0200
TZNAME:CEST
DTSTART:20280326T010000
END:DAYLIGHT
BEGIN:STANDARD
TZOFFSETFROM:+0200
TZOFFSETTO:+0100
TZNAME:CET
DTSTART:20281029T010000
END:STANDARD
END:VTIMEZONE
BEGIN:VEVENT
DTSTART;TZID=Europe/Budapest:20260428T090000
DTEND;TZID=Europe/Budapest:20260428T130000
DTSTAMP:20260425T170452
CREATED:20260129T080038Z
LAST-MODIFIED:20260414T072915Z
UID:133-1777366800-1777381200@uzletikornyezetfejlesztesiprogram.hu
SUMMARY:Vállalkozz okosan – jogi alapok\, CRM és AI marketing a gyakorlatban
DESCRIPTION:Az Üzleti Környezet Fejlesztési Program szeretettel várja az érdeklődőket egy olyan szakmai délelőttre\, ahol a vállalkozásépítés három meghatározó területe kerül majd fókuszba: a stabil jogi alapok\, a CRM rendszer bevezetésének előnyei és a mesterséges intelligenciára épülő modern marketingmegoldások. A résztvevők amellett\, hogy az inspiráló gondolatokkal gazdagodnak\, tovább tudják később fejleszteni vállalkozásukat\, az itt megszerzett tudás alapján. \n\n\n\nRészletes program és előadók\n\n\n\n\nDr. Farkas Szabolcs (Bajcsay & Partners): Cégalapítás és cégépítés jogi oldalról\nAz előadás abban segít eligazodni\, milyen jogi szempontokat érdemes már a vállalkozás indulásakor és építése során is tudatosan kezelni.\nFülöp Zsolt (Hoffmann Hungary Quality Tools Kft.):\nAmit nem mérsz azt nem tudod vezetni\nAz előadás során az előadó bemutatja\, hogy a CRM mikként tud iránytűként funkcionálni a cégvezetés hatékony működésében\, és hogy segíti az a cég folyamatos fejlődését.\n\n\nVonnák Péter (innoGold Pro Kft.): AI marketingügynökség a laptopodon\nAz előadás gyakorlati példákon keresztül mutatja meg\, hogyan válhat a mesterséges intelligencia a marketing egyik leghasznosabb eszközévé. Kiderül\, hogyan lehet gyorsabban\, okosabban és kisebb erőforrással dolgozni úgy\, hogy közben a kommunikáció és a láthatóság is új szintre lépjen.\n\nA szakmai programot félórás\, kötetlen networking zárja\, ahol a résztvevőknek lehetőségük lesz beszélgetni\, kapcsolatokat építeni\, kérdéseket feltenni és megosztani egymással saját tapasztalataikat.\n\n\n\n\n\n\nKinek ajánljuk?\n\n\nA rendezvényt ajánljuk azoknak a vállalkozóknak\, akik: \n• szeretnének biztosabb jogi alapokra építkezni a cégalapítás és cégépítés során\,\n• kíváncsiak arra\, hogyan teheti egyszerűbbé és hatékonyabbá a marketinget az AI\,\n• nyitottak gyakorlatias ötletekre\, új nézőpontokra és azonnal hasznosítható megoldásokra.\n\n\n\nA részvétel díjmentes\, de regisztrációhoz kötött. \nHa kíváncsi vagy\, hogyan vállalkozz okosan\, regisztrálj az április 28-i ÜKFP eseményre. \nMostantól minden ÜKFP-rendezvényen nemcsak hasznos\, azonnal alkalmazható üzleti tudással gazdagodhatsz\, hanem nyerhetsz is. \nA rendezvény végén kisorsolt nyeremény: \nAz áprilisi ÜKFP-rendezvény résztvevői között kisorsolunk egy 24.000 Ft + ÁFA értékű Claude AI Tudásanyagot (készítette: Vonnák Péter\, AI szakértő)\, amely közel 1 órában mutatja meg\, hogyan csökkentheted a Claude segítségével az irodai és adminisztratív terheket a mindennapi működésben. A játékban azok vehetnek részt\, akik személyesen jelen vannak a rendezvényen\, a helyszínen kitöltik a nyereményjátékhoz kapcsolódó jelentkezést\, majd bedobják azt a kijelölt gyűjtődobozba. \nFőnyeremény: \nA székesfehérvári ÜKFP programsorozat végén 1 db\, 149.000 Ft + ÁFA értékű\, AI-alapú\, szerkeszthető\, marketing-optimalizált Webautomata weboldal (https://webautomata.hu/) kerül kisorsolásra a résztvevők között. A főnyeremény sorsolásában azok vehetnek részt\, akik a székesfehérvári ÜKFP-rendezvények valamelyikén személyesen jelen vannak\, és a helyszínen kitöltik\, majd leadják a nyereményjátékhoz kapcsolódó jelentkezésüket. Minden egyes székesfehérvári ÜKFP eseményen való részvétel egy újabb esélyt jelent a főnyereményre\, így minél több alkalommal vagy jelen\, annál nagyobb eséllyel indulsz. A részvétel díjmentes\, vásárláshoz nem kötött. A főnyereményre vonatkozó részletes feltételek a nyereményjáték szabályzatában találhatók.
URL:https://uzletikornyezetfejlesztesiprogram.hu/event/jogi-alapok-es-ai-marketing-a-gyakorlatban/
LOCATION:Fejér Vármegyei Kereskedelmi és Iparkamara\, Hosszúséta tér 4-6.\, Székesfehérvár\, 8000\, Hungary
CATEGORIES:Székesfehérvár
ATTACH;FMTTYPE=image/png:https://uzletikornyezetfejlesztesiprogram.hu/wp-content/uploads/2026/01/6.png
END:VEVENT
BEGIN:VEVENT
DTSTART;TZID=Europe/Budapest:20260526T113000
DTEND;TZID=Europe/Budapest:20260526T133000
DTSTAMP:20260425T170452
CREATED:20260129T082006Z
LAST-MODIFIED:20260413T130143Z
UID:150-1779795000-1779802200@uzletikornyezetfejlesztesiprogram.hu
SUMMARY:Modern KKV-fejlesztés: digitalizáció\, innováció és AI-alkalmazások
DESCRIPTION:
URL:https://uzletikornyezetfejlesztesiprogram.hu/event/modern-kkv-fejlesztes-digitalizacio-innovacio-es-ai-alkalmazasok-4/
CATEGORIES:Veszprém
ATTACH;FMTTYPE=image/png:https://uzletikornyezetfejlesztesiprogram.hu/wp-content/uploads/2026/01/Uzleti-Kornyezet-Fejlesztesi-Program_event_img.png
END:VEVENT
BEGIN:VEVENT
DTSTART;TZID=Europe/Budapest:20260527T090000
DTEND;TZID=Europe/Budapest:20260527T130000
DTSTAMP:20260425T170452
CREATED:20260129T080820Z
LAST-MODIFIED:20260129T100951Z
UID:135-1779872400-1779886800@uzletikornyezetfejlesztesiprogram.hu
SUMMARY:AI fókuszú KKV versenyképesség fejlesztés innovatív megoldásokkal
DESCRIPTION:
URL:https://uzletikornyezetfejlesztesiprogram.hu/event/ai-fokuszu-kkv-versenykepesseg-fejlesztes-innovativ-megoldasokkal-3/
CATEGORIES:Székesfehérvár
ATTACH;FMTTYPE=image/png:https://uzletikornyezetfejlesztesiprogram.hu/wp-content/uploads/2026/01/Uzleti-Kornyezet-Fejlesztesi-Program_event_img_02.png
END:VEVENT
BEGIN:VEVENT
DTSTART;TZID=Europe/Budapest:20260616T113000
DTEND;TZID=Europe/Budapest:20260616T133000
DTSTAMP:20260425T170452
CREATED:20260129T082032Z
LAST-MODIFIED:20260413T125953Z
UID:151-1781609400-1781616600@uzletikornyezetfejlesztesiprogram.hu
SUMMARY:Modern KKV-fejlesztés: digitalizáció\, innováció és AI-alkalmazások
DESCRIPTION:
URL:https://uzletikornyezetfejlesztesiprogram.hu/event/modern-kkv-fejlesztes-digitalizacio-innovacio-es-ai-alkalmazasok-5/
CATEGORIES:Veszprém
ATTACH;FMTTYPE=image/png:https://uzletikornyezetfejlesztesiprogram.hu/wp-content/uploads/2026/01/Uzleti-Kornyezet-Fejlesztesi-Program_event_img.png
END:VEVENT
BEGIN:VEVENT
DTSTART;TZID=Europe/Budapest:20260714T113000
DTEND;TZID=Europe/Budapest:20260714T133000
DTSTAMP:20260425T170452
CREATED:20260129T082105Z
LAST-MODIFIED:20260129T094822Z
UID:152-1784028600-1784035800@uzletikornyezetfejlesztesiprogram.hu
SUMMARY:Modern KKV-fejlesztés: digitalizáció\, innováció és AI-alkalmazások
DESCRIPTION:
URL:https://uzletikornyezetfejlesztesiprogram.hu/event/modern-kkv-fejlesztes-digitalizacio-innovacio-es-ai-alkalmazasok-6/
CATEGORIES:Veszprém
ATTACH;FMTTYPE=image/png:https://uzletikornyezetfejlesztesiprogram.hu/wp-content/uploads/2026/01/Uzleti-Kornyezet-Fejlesztesi-Program_event_img.png
END:VEVENT
BEGIN:VEVENT
DTSTART;TZID=Europe/Budapest:20260908T113000
DTEND;TZID=Europe/Budapest:20260908T133000
DTSTAMP:20260425T170452
CREATED:20260129T082131Z
LAST-MODIFIED:20260129T094809Z
UID:153-1788867000-1788874200@uzletikornyezetfejlesztesiprogram.hu
SUMMARY:Modern KKV-fejlesztés: digitalizáció\, innováció és AI-alkalmazások
DESCRIPTION:
URL:https://uzletikornyezetfejlesztesiprogram.hu/event/modern-kkv-fejlesztes-digitalizacio-innovacio-es-ai-alkalmazasok-7/
CATEGORIES:Veszprém
ATTACH;FMTTYPE=image/png:https://uzletikornyezetfejlesztesiprogram.hu/wp-content/uploads/2026/01/Uzleti-Kornyezet-Fejlesztesi-Program_event_img.png
END:VEVENT
BEGIN:VEVENT
DTSTART;TZID=Europe/Budapest:20260910T090000
DTEND;TZID=Europe/Budapest:20260910T110000
DTSTAMP:20260425T170452
CREATED:20260129T080910Z
LAST-MODIFIED:20260413T125345Z
UID:136-1789030800-1789038000@uzletikornyezetfejlesztesiprogram.hu
SUMMARY:AI fókuszú KKV versenyképesség fejlesztés innovatív megoldásokkal
DESCRIPTION:
URL:https://uzletikornyezetfejlesztesiprogram.hu/event/ai-fokuszu-kkv-versenykepesseg-fejlesztes-innovativ-megoldasokkal-4/
CATEGORIES:Székesfehérvár
ATTACH;FMTTYPE=image/png:https://uzletikornyezetfejlesztesiprogram.hu/wp-content/uploads/2026/01/Uzleti-Kornyezet-Fejlesztesi-Program_event_img_02.png
END:VEVENT
BEGIN:VEVENT
DTSTART;TZID=Europe/Budapest:20260922T113000
DTEND;TZID=Europe/Budapest:20260922T133000
DTSTAMP:20260425T170452
CREATED:20260129T082203Z
LAST-MODIFIED:20260129T094750Z
UID:154-1790076600-1790083800@uzletikornyezetfejlesztesiprogram.hu
SUMMARY:Modern KKV-fejlesztés: digitalizáció\, innováció és AI-alkalmazások
DESCRIPTION:
URL:https://uzletikornyezetfejlesztesiprogram.hu/event/modern-kkv-fejlesztes-digitalizacio-innovacio-es-ai-alkalmazasok-8/
CATEGORIES:Veszprém
ATTACH;FMTTYPE=image/png:https://uzletikornyezetfejlesztesiprogram.hu/wp-content/uploads/2026/01/Uzleti-Kornyezet-Fejlesztesi-Program_event_img.png
END:VEVENT
BEGIN:VEVENT
DTSTART;TZID=Europe/Budapest:20261020T090000
DTEND;TZID=Europe/Budapest:20261020T110000
DTSTAMP:20260425T170452
CREATED:20260129T080937Z
LAST-MODIFIED:20260413T125509Z
UID:137-1792486800-1792494000@uzletikornyezetfejlesztesiprogram.hu
SUMMARY:AI fókuszú KKV versenyképesség fejlesztés innovatív megoldásokkal
DESCRIPTION:
URL:https://uzletikornyezetfejlesztesiprogram.hu/event/ai-fokuszu-kkv-versenykepesseg-fejlesztes-innovativ-megoldasokkal-5/
CATEGORIES:Székesfehérvár
ATTACH;FMTTYPE=image/png:https://uzletikornyezetfejlesztesiprogram.hu/wp-content/uploads/2026/01/Uzleti-Kornyezet-Fejlesztesi-Program_event_img_02.png
END:VEVENT
BEGIN:VEVENT
DTSTART;TZID=Europe/Budapest:20270218T090000
DTEND;TZID=Europe/Budapest:20270218T110000
DTSTAMP:20260425T170452
CREATED:20260129T081036Z
LAST-MODIFIED:20260413T125706Z
UID:139-1802941200-1802948400@uzletikornyezetfejlesztesiprogram.hu
SUMMARY:AI fókuszú KKV versenyképesség fejlesztés innovatív megoldásokkal
DESCRIPTION:
URL:https://uzletikornyezetfejlesztesiprogram.hu/event/ai-fokuszu-kkv-versenykepesseg-fejlesztes-innovativ-megoldasokkal-7/
CATEGORIES:Székesfehérvár
ATTACH;FMTTYPE=image/png:https://uzletikornyezetfejlesztesiprogram.hu/wp-content/uploads/2026/01/Uzleti-Kornyezet-Fejlesztesi-Program_event_img_02.png
END:VEVENT
BEGIN:VEVENT
DTSTART;TZID=Europe/Budapest:20270406T090000
DTEND;TZID=Europe/Budapest:20270406T110000
DTSTAMP:20260425T170452
CREATED:20260129T081002Z
LAST-MODIFIED:20260413T125752Z
UID:138-1807002000-1807009200@uzletikornyezetfejlesztesiprogram.hu
SUMMARY:AI fókuszú KKV versenyképesség fejlesztés innovatív megoldásokkal
DESCRIPTION:
URL:https://uzletikornyezetfejlesztesiprogram.hu/event/ai-fokuszu-kkv-versenykepesseg-fejlesztes-innovativ-megoldasokkal-6/
CATEGORIES:Székesfehérvár
ATTACH;FMTTYPE=image/png:https://uzletikornyezetfejlesztesiprogram.hu/wp-content/uploads/2026/01/Uzleti-Kornyezet-Fejlesztesi-Program_event_img_02.png
END:VEVENT
END:VCALENDAR